BEGIN:VCALENDAR
VERSION:2.0
PRODID:-//Tukios.com/
BEGIN:VEVENT
UID:2333c217-aad4-4379-b9d5-9a3391d3665a@www.heritagememorialfh.com
DTSTAMP:20260426T001922Z
DTSTART:20260502T160000Z
DTEND:20260502T170000Z
SUMMARY:Graveside Service
DESCRIPTION:
URL:https://www.heritagememorialfh.com/obituaries/chad-lane
LOCATION:Hon Cemetery Hwy 28 West  Waldron AR 72958
GEO:34.9084302;-94.1072592
END:VEVENT
END:VCALENDAR