BEGIN:VCALENDAR
VERSION:2.0
PRODID:-//Tukios.com/
BEGIN:VEVENT
UID:6861d436-0ffb-42b3-8012-9fca5ef2a2b8@www.heritagememorialfh.com
DTSTAMP:20260426T001716Z
DTSTART:20260427T230000Z
DTEND:20260428T000000Z
SUMMARY:Celebration of Life
DESCRIPTION:
URL:https://www.heritagememorialfh.com/obituaries/chad-lane
LOCATION:Connect Church 1103 E. L St.  Russellville AR 72801
GEO:35.2908055;-93.1193782
END:VEVENT
END:VCALENDAR