BEGIN:VCALENDAR
VERSION:2.0
PRODID:-//Tukios.com/
BEGIN:VEVENT
UID:21dacdb6-f3f0-4722-aa71-6b547345ccb6@www.heritagememorialfh.com
DTSTAMP:20260420T203418Z
DTSTART:20260424T163000Z
DTEND:20260424T170000Z
SUMMARY:Graveside Service
DESCRIPTION:
URL:https://www.heritagememorialfh.com/obituaries/olgia-kopf
LOCATION:Sehorn Cemetery     
GEO:0;0
END:VEVENT
END:VCALENDAR