BEGIN:VCALENDAR
VERSION:2.0
PRODID:-//Tukios.com/
BEGIN:VEVENT
UID:f7a57267-03ea-487f-ba07-eb88c54782ec@www.heritagememorialfh.com
DTSTAMP:20260420T203911Z
DTSTART:20260424T150000Z
DTEND:20260424T163000Z
SUMMARY:Celebration of Life
DESCRIPTION:
URL:https://www.heritagememorialfh.com/obituaries/olgia-kopf
LOCATION:Winfield Baptist Church Hwy 248 West  Waldron AR 72958
GEO:34.8981454;-94.0764498
END:VEVENT
END:VCALENDAR