BEGIN:VCALENDAR
VERSION:2.0
PRODID:-//Tukios.com/
BEGIN:VEVENT
UID:4c6df6c7-0998-4e8f-9288-ef7a92ade9be@www.heritagememorialfh.com
DTSTAMP:20260420T203740Z
DTSTART:20260423T210000Z
DTEND:20260424T000000Z
SUMMARY:Visitation
DESCRIPTION:
URL:https://www.heritagememorialfh.com/obituaries/olgia-kopf
LOCATION: 1879 W 6th St P.O. Box 358 Waldron AR 72958
GEO:34.8965726;-94.1115814
END:VEVENT
END:VCALENDAR